BEGIN:VCALENDAR
VERSION:2.0
PRODID:-//Boyce Thompson Arboretum - ECPv6.15.20//NONSGML v1.0//EN
CALSCALE:GREGORIAN
METHOD:PUBLISH
X-ORIGINAL-URL:https://btarboretum.org
X-WR-CALDESC:Events for Boyce Thompson Arboretum
REFRESH-INTERVAL;VALUE=DURATION:PT1H
X-Robots-Tag:noindex
X-PUBLISHED-TTL:PT1H
BEGIN:VTIMEZONE
TZID:America/Phoenix
BEGIN:STANDARD
TZOFFSETFROM:-0700
TZOFFSETTO:-0700
TZNAME:MST
DTSTART:20250101T000000
END:STANDARD
END:VTIMEZONE
BEGIN:VEVENT
DTSTART;TZID=America/Phoenix:20260605T073000
DTEND;TZID=America/Phoenix:20260605T083000
DTSTAMP:20260421T015146
CREATED:20260220T205317Z
LAST-MODIFIED:20260220T205317Z
UID:21250-1780644600-1780648200@btarboretum.org
SUMMARY:Summer Golf Cart Tour
DESCRIPTION:Explore the arboretum this summer with our Docents on a golf cart tour! We invite you to join us for an hour long cart ride to some of our most scenic spots of the arboretum. Our knowledgeable Docents will give you insights into our collections and take you to the best photo ops the gardens have to offer. \nCart tours are limited to 5 guests per tour. Due to limited space pre-registration is highly recommended. Purchase your tickets at our Welcome Center Gift Shop or Online. \nRegister: https://7830.blackbaudhosting.com/7830/Summer-Cart-Tour \nGolf Cart tours are $20 plus admission. Admission can be purchased separately online (here) or in-person during check-in.
URL:https://btarboretum.org/event/summer-golf-cart-tour/
LOCATION:Boyce Thompson Arboretum\, 37615 E Arboretum Way\, Superior\, AZ\, 85173\, United States
CATEGORIES:Tours
ATTACH;FMTTYPE=image/jpeg:https://btarboretum.org/wp-content/uploads/2026/02/2025-0710_032_SmithPatio_StaffDriving6SeatCart_BTA-214_CL-scaled.jpg
END:VEVENT
BEGIN:VEVENT
DTSTART;TZID=America/Phoenix:20260606T073000
DTEND;TZID=America/Phoenix:20260606T083000
DTSTAMP:20260421T015146
CREATED:20260220T211442Z
LAST-MODIFIED:20260220T211442Z
UID:21253-1780731000-1780734600@btarboretum.org
SUMMARY:Summer Golf Cart Tour
DESCRIPTION:Explore the arboretum this summer with our Docents on a golf cart tour! We invite you to join us for an hour long cart ride to some of our most scenic spots of the arboretum. Our knowledgeable Docents will give you insights into our collections and take you to the best photo ops the gardens have to offer. \nCart tours are limited to 5 guests per tour. Due to limited space pre-registration is highly recommended. Purchase your tickets at our Welcome Center Gift Shop or Online. \nRegister: https://7830.blackbaudhosting.com/7830/Summer-Cart-Tour-06Jun2026 \nGolf Cart tours are $20 plus admission. Admission can be purchased separately online (here) or in-person during check-in.
URL:https://btarboretum.org/event/summer-golf-cart-tour-13/
LOCATION:Boyce Thompson Arboretum\, 37615 E Arboretum Way\, Superior\, AZ\, 85173\, United States
CATEGORIES:Tours
ATTACH;FMTTYPE=image/jpeg:https://btarboretum.org/wp-content/uploads/2026/02/2025-0710_032_SmithPatio_StaffDriving6SeatCart_BTA-214_CL-scaled.jpg
END:VEVENT
BEGIN:VEVENT
DTSTART;TZID=America/Phoenix:20260612T193000
DTEND;TZID=America/Phoenix:20260612T210000
DTSTAMP:20260421T015146
CREATED:20260213T162945Z
LAST-MODIFIED:20260213T163204Z
UID:21233-1781292600-1781298000@btarboretum.org
SUMMARY:Critter Crawl Night Tour
DESCRIPTION:Join us after dark on a night-time adventure with our Education Staff and Docents! Discover the amazing world of nocturnal life in the Sonoran Desert on this family friendly ‘crawl’. Guests will learn about Sonoran Desert ecology while taking a closer look at the local critters. Plus\, you will get the knowledge you need to be prepared for your own night-time treks.   \nPreregistration is required and limited to 24 guests. For your safety\, children ages 4 and under and pets are not permitted.  \nRegister: https://7830.blackbaudhosting.com/7830/Critter-Crawl-Night-Tour-12Jun2026 \nDistance: Each experience is unique and follows the critters. However\, you will walk no more than 1 mile.   \nDuration: 1.5 hours  \nContent Notice: This tour contains content regarding snakes\, spiders\, scorpions\, bugs\, owls\, and other nighttime animals. The arboretum is primarily dark at night and artificial lighting is limited.   \nWhat to bring/wear: Close-toed shoes\, plenty of water (at least 32oz/person)\, flashlights/headlamps for each member of your party\, and snacks (if needed). Our gift shop will NOT be open to purchase water bottles or snacks.   \nTrail conditions: Mostly flat\, hard packed dirt with small portions of sand and cobblestone. Our trails are not leveled and contain uneven terrain\, humps\, and dips. Trail width is at minimum 2 ft across. 
URL:https://btarboretum.org/event/critter-crawl-night-tour/
LOCATION:Boyce Thompson Arboretum\, 37615 E Arboretum Way\, Superior\, AZ\, 85173\, United States
CATEGORIES:Critter Crawl
ATTACH;FMTTYPE=image/jpeg:https://btarboretum.org/wp-content/uploads/2026/02/2025-0620_024_Smith_Night_Flashlights_SearchingForAnimals_BTA-212_CL-scaled.jpg
END:VEVENT
BEGIN:VEVENT
DTSTART;TZID=America/Phoenix:20260619T073000
DTEND;TZID=America/Phoenix:20260619T083000
DTSTAMP:20260421T015146
CREATED:20260220T211332Z
LAST-MODIFIED:20260220T211332Z
UID:21254-1781854200-1781857800@btarboretum.org
SUMMARY:Summer Golf Cart Tour
DESCRIPTION:Explore the arboretum this summer with our Docents on a golf cart tour! We invite you to join us for an hour long cart ride to some of our most scenic spots of the arboretum. Our knowledgeable Docents will give you insights into our collections and take you to the best photo ops the gardens have to offer. \nCart tours are limited to 5 guests per tour. Due to limited space pre-registration is highly recommended. Purchase your tickets at our Welcome Center Gift Shop or Online. \nRegister: https://7830.blackbaudhosting.com/7830/Summer-Cart-Tour-19Jun2026 \nGolf Cart tours are $20 plus admission. Admission can be purchased separately online (here) or in-person during check-in.
URL:https://btarboretum.org/event/summer-golf-cart-tour-12/
LOCATION:Boyce Thompson Arboretum\, 37615 E Arboretum Way\, Superior\, AZ\, 85173\, United States
CATEGORIES:Tours
ATTACH;FMTTYPE=image/jpeg:https://btarboretum.org/wp-content/uploads/2026/02/2025-0710_032_SmithPatio_StaffDriving6SeatCart_BTA-214_CL-scaled.jpg
END:VEVENT
BEGIN:VEVENT
DTSTART;TZID=America/Phoenix:20260620T073000
DTEND;TZID=America/Phoenix:20260620T083000
DTSTAMP:20260421T015146
CREATED:20260220T211216Z
LAST-MODIFIED:20260220T211216Z
UID:21255-1781940600-1781944200@btarboretum.org
SUMMARY:Summer Golf Cart Tour
DESCRIPTION:Explore the arboretum this summer with our Docents on a golf cart tour! We invite you to join us for an hour long cart ride to some of our most scenic spots of the arboretum. Our knowledgeable Docents will give you insights into our collections and take you to the best photo ops the gardens have to offer. \nCart tours are limited to 5 guests per tour. Due to limited space pre-registration is highly recommended. Purchase your tickets at our Welcome Center Gift Shop or Online. \nRegister: https://7830.blackbaudhosting.com/7830/Summer-Cart-Tour-20Jun2026 \nGolf Cart tours are $20 plus admission. Admission can be purchased separately online (here) or in-person during check-in.
URL:https://btarboretum.org/event/summer-golf-cart-tour-11/
LOCATION:Boyce Thompson Arboretum\, 37615 E Arboretum Way\, Superior\, AZ\, 85173\, United States
CATEGORIES:Tours
ATTACH;FMTTYPE=image/jpeg:https://btarboretum.org/wp-content/uploads/2026/02/2025-0710_032_SmithPatio_StaffDriving6SeatCart_BTA-214_CL-scaled.jpg
END:VEVENT
BEGIN:VEVENT
DTSTART;TZID=America/Phoenix:20260620T090000
DTEND;TZID=America/Phoenix:20260620T113000
DTSTAMP:20260421T015146
CREATED:20250810T160156Z
LAST-MODIFIED:20250810T160156Z
UID:20937-1781946000-1781955000@btarboretum.org
SUMMARY:BTA Photo Club
DESCRIPTION:The Boyce Thompson Arboretum Photography Club is a welcoming community of photographers of all skill levels who are inspired by the natural beauty of Arizona’s high desert. The club meets every third Saturday to explore seasonal changes\, share techniques\, and participate in hands-on workshops. Best of all\, it’s free with admission. Drop ins are welcome. Members have the opportunity to showcase their work and celebrate the unique flora\, fauna\, and landscapes of Arizona’s oldest and largest botanical garden. Nestled in the scenic Queen Creek Canyon\, the Arboretum offers a rich tapestry of desert plants\, dramatic vistas\, and diverse wildlife\, making it an ideal setting for creative exploration. Whether you’re a beginner learning the basics or a seasoned photographer seeking fresh inspiration\, this club provides a supportive space to grow your skills and connect with fellow nature lovers. \nIn person location: Boyce Thompson Arboretum\, Smith Lecture Room \nTo join a meeting online: https://us06web.zoom.us/j/87186217599?pwd=8NHJ7qTvMPJGIo4bfiDfP3yLAveQhh.1 \nTo become a Photo Club member or learn more\, please contact: ad.dpeg.bta@gmail.com
URL:https://btarboretum.org/event/bta-photo-club-11/
LOCATION:Boyce Thompson Arboretum\, 37615 E Arboretum Way\, Superior\, AZ\, 85173\, United States
CATEGORIES:Programs
ATTACH;FMTTYPE=image/jpeg:https://btarboretum.org/wp-content/uploads/2025/08/2025-041725_047_PalmGrove_Coati_BTA-194_CL-scaled.jpg
END:VEVENT
BEGIN:VEVENT
DTSTART;TZID=America/Phoenix:20260626T193000
DTEND;TZID=America/Phoenix:20260626T210000
DTSTAMP:20260421T015146
CREATED:20260213T163417Z
LAST-MODIFIED:20260213T163450Z
UID:21236-1782502200-1782507600@btarboretum.org
SUMMARY:Critter Crawl Night Tour
DESCRIPTION:Join us after dark on a night-time adventure with our Education Staff and Docents! Discover the amazing world of nocturnal life in the Sonoran Desert on this family friendly ‘crawl’. Guests will learn about Sonoran Desert ecology while taking a closer look at the local critters. Plus\, you will get the knowledge you need to be prepared for your own night-time treks.   \nPreregistration is required and limited to 24 guests. For your safety\, children ages 4 and under and pets are not permitted.  \nRegister: https://7830.blackbaudhosting.com/7830/Critter-Crawl-Night-Tour-26Jun2026 \nDistance: Each experience is unique and follows the critters. However\, you will walk no more than 1 mile.   \nDuration: 1.5 hours  \nContent Notice: This tour contains content regarding snakes\, spiders\, scorpions\, bugs\, owls\, and other nighttime animals. The arboretum is primarily dark at night and artificial lighting is limited.   \nWhat to bring/wear: Close-toed shoes\, plenty of water (at least 32oz/person)\, flashlights/headlamps for each member of your party\, and snacks (if needed). Our gift shop will NOT be open to purchase water bottles or snacks.   \nTrail conditions: Mostly flat\, hard packed dirt with small portions of sand and cobblestone. Our trails are not leveled and contain uneven terrain\, humps\, and dips. Trail width is at minimum 2 ft across. 
URL:https://btarboretum.org/event/critter-crawl-night-tour-6/
LOCATION:Boyce Thompson Arboretum\, 37615 E Arboretum Way\, Superior\, AZ\, 85173\, United States
CATEGORIES:Critter Crawl
ATTACH;FMTTYPE=image/jpeg:https://btarboretum.org/wp-content/uploads/2026/02/2025-0620_024_Smith_Night_Flashlights_SearchingForAnimals_BTA-212_CL-scaled.jpg
END:VEVENT
END:VCALENDAR