BEGIN:VCALENDAR
VERSION:2.0
PRODID:-//Boyce Thompson Arboretum - ECPv6.15.20//NONSGML v1.0//EN
CALSCALE:GREGORIAN
METHOD:PUBLISH
X-ORIGINAL-URL:https://btarboretum.org
X-WR-CALDESC:Events for Boyce Thompson Arboretum
REFRESH-INTERVAL;VALUE=DURATION:PT1H
X-Robots-Tag:noindex
X-PUBLISHED-TTL:PT1H
BEGIN:VTIMEZONE
TZID:America/Phoenix
BEGIN:STANDARD
TZOFFSETFROM:-0700
TZOFFSETTO:-0700
TZNAME:MST
DTSTART:20250101T000000
END:STANDARD
END:VTIMEZONE
BEGIN:VEVENT
DTSTART;TZID=America/Phoenix:20260801T073000
DTEND;TZID=America/Phoenix:20260801T083000
DTSTAMP:20260425T092854
CREATED:20260220T210400Z
LAST-MODIFIED:20260220T210400Z
UID:21261-1785569400-1785573000@btarboretum.org
SUMMARY:Summer Golf Cart Tour
DESCRIPTION:Explore the arboretum this summer with our Docents on a golf cart tour! We invite you to join us for an hour long cart ride to some of our most scenic spots of the arboretum. Our knowledgeable Docents will give you insights into our collections and take you to the best photo ops the gardens have to offer. \nCart tours are limited to 5 guests per tour. Due to limited space pre-registration is highly recommended. Purchase your tickets at our Welcome Center Gift Shop or Online. \nRegister: https://7830.blackbaudhosting.com/7830/Summer-Cart-Tour-01Aug2026 \nGolf Cart tours are $20 plus admission. Admission can be purchased separately online (here) or in-person during check-in.
URL:https://btarboretum.org/event/summer-golf-cart-tour-6/
LOCATION:Boyce Thompson Arboretum\, 37615 E Arboretum Way\, Superior\, AZ\, 85173\, United States
CATEGORIES:Tours
ATTACH;FMTTYPE=image/jpeg:https://btarboretum.org/wp-content/uploads/2026/02/2025-0710_032_SmithPatio_StaffDriving6SeatCart_BTA-214_CL-scaled.jpg
END:VEVENT
BEGIN:VEVENT
DTSTART;TZID=America/Phoenix:20260807T193000
DTEND;TZID=America/Phoenix:20260807T210000
DTSTAMP:20260425T092854
CREATED:20260213T163919Z
LAST-MODIFIED:20260213T163919Z
UID:21239-1786131000-1786136400@btarboretum.org
SUMMARY:Critter Crawl Night Tour
DESCRIPTION:Join us after dark on a night-time adventure with our Education Staff and Docents! Discover the amazing world of nocturnal life in the Sonoran Desert on this family friendly ‘crawl’. Guests will learn about Sonoran Desert ecology while taking a closer look at the local critters. Plus\, you will get the knowledge you need to be prepared for your own night-time treks.   \nPreregistration is required and limited to 24 guests. For your safety\, children ages 4 and under and pets are not permitted.  \nRegister: https://7830.blackbaudhosting.com/7830/Critter-Crawl-Night-Tour-07Aug2026 \nDistance: Each experience is unique and follows the critters. However\, you will walk no more than 1 mile.   \nDuration: 1.5 hours  \nContent Notice: This tour contains content regarding snakes\, spiders\, scorpions\, bugs\, owls\, and other nighttime animals. The arboretum is primarily dark at night and artificial lighting is limited.   \nWhat to bring/wear: Close-toed shoes\, plenty of water (at least 32oz/person)\, flashlights/headlamps for each member of your party\, and snacks (if needed). Our gift shop will NOT be open to purchase water bottles or snacks.   \nTrail conditions: Mostly flat\, hard packed dirt with small portions of sand and cobblestone. Our trails are not leveled and contain uneven terrain\, humps\, and dips. Trail width is at minimum 2 ft across. 
URL:https://btarboretum.org/event/critter-crawl-night-tour-9/
LOCATION:Boyce Thompson Arboretum\, 37615 E Arboretum Way\, Superior\, AZ\, 85173\, United States
CATEGORIES:Critter Crawl
ATTACH;FMTTYPE=image/jpeg:https://btarboretum.org/wp-content/uploads/2026/02/2025-0620_024_Smith_Night_Flashlights_SearchingForAnimals_BTA-212_CL-scaled.jpg
END:VEVENT
BEGIN:VEVENT
DTSTART;TZID=America/Phoenix:20260814T073000
DTEND;TZID=America/Phoenix:20260814T083000
DTSTAMP:20260425T092854
CREATED:20260220T210302Z
LAST-MODIFIED:20260220T210302Z
UID:21262-1786692600-1786696200@btarboretum.org
SUMMARY:Summer Golf Cart Tour
DESCRIPTION:Explore the arboretum this summer with our Docents on a golf cart tour! We invite you to join us for an hour long cart ride to some of our most scenic spots of the arboretum. Our knowledgeable Docents will give you insights into our collections and take you to the best photo ops the gardens have to offer. \nCart tours are limited to 5 guests per tour. Due to limited space pre-registration is highly recommended. Purchase your tickets at our Welcome Center Gift Shop or Online. \nRegister: https://7830.blackbaudhosting.com/7830/Summer-Cart-Tour-14Aug2026 \nGolf Cart tours are $20 plus admission. Admission can be purchased separately online (here) or in-person during check-in.
URL:https://btarboretum.org/event/summer-golf-cart-tour-5/
LOCATION:Boyce Thompson Arboretum\, 37615 E Arboretum Way\, Superior\, AZ\, 85173\, United States
CATEGORIES:Tours
ATTACH;FMTTYPE=image/jpeg:https://btarboretum.org/wp-content/uploads/2026/02/2025-0710_032_SmithPatio_StaffDriving6SeatCart_BTA-214_CL-scaled.jpg
END:VEVENT
BEGIN:VEVENT
DTSTART;TZID=America/Phoenix:20260815T073000
DTEND;TZID=America/Phoenix:20260815T083000
DTSTAMP:20260425T092854
CREATED:20260220T210055Z
LAST-MODIFIED:20260220T210055Z
UID:21263-1786779000-1786782600@btarboretum.org
SUMMARY:Summer Golf Cart Tour
DESCRIPTION:Explore the arboretum this summer with our Docents on a golf cart tour! We invite you to join us for an hour long cart ride to some of our most scenic spots of the arboretum. Our knowledgeable Docents will give you insights into our collections and take you to the best photo ops the gardens have to offer. \nCart tours are limited to 5 guests per tour. Due to limited space pre-registration is highly recommended. Purchase your tickets at our Welcome Center Gift Shop or Online. \nRegister: https://7830.blackbaudhosting.com/7830/Summer-Cart-Tour-15Aug2026 \nGolf Cart tours are $20 plus admission. Admission can be purchased separately online (here) or in-person during check-in.
URL:https://btarboretum.org/event/summer-golf-cart-tour-4/
LOCATION:Boyce Thompson Arboretum\, 37615 E Arboretum Way\, Superior\, AZ\, 85173\, United States
CATEGORIES:Tours
ATTACH;FMTTYPE=image/jpeg:https://btarboretum.org/wp-content/uploads/2026/02/2025-0710_032_SmithPatio_StaffDriving6SeatCart_BTA-214_CL-scaled.jpg
END:VEVENT
BEGIN:VEVENT
DTSTART;TZID=America/Phoenix:20260821T193000
DTEND;TZID=America/Phoenix:20260821T210000
DTSTAMP:20260425T092854
CREATED:20260213T164042Z
LAST-MODIFIED:20260213T164042Z
UID:21240-1787340600-1787346000@btarboretum.org
SUMMARY:Critter Crawl Night Tour
DESCRIPTION:Join us after dark on a night-time adventure with our Education Staff and Docents! Discover the amazing world of nocturnal life in the Sonoran Desert on this family friendly ‘crawl’. Guests will learn about Sonoran Desert ecology while taking a closer look at the local critters. Plus\, you will get the knowledge you need to be prepared for your own night-time treks.   \nPreregistration is required and limited to 24 guests. For your safety\, children ages 4 and under and pets are not permitted.  \nRegister: https://7830.blackbaudhosting.com/7830/Critter-Crawl-Night-Tour-21Aug2026 \nDistance: Each experience is unique and follows the critters. However\, you will walk no more than 1 mile.   \nDuration: 1.5 hours  \nContent Notice: This tour contains content regarding snakes\, spiders\, scorpions\, bugs\, owls\, and other nighttime animals. The arboretum is primarily dark at night and artificial lighting is limited.   \nWhat to bring/wear: Close-toed shoes\, plenty of water (at least 32oz/person)\, flashlights/headlamps for each member of your party\, and snacks (if needed). Our gift shop will NOT be open to purchase water bottles or snacks.   \nTrail conditions: Mostly flat\, hard packed dirt with small portions of sand and cobblestone. Our trails are not leveled and contain uneven terrain\, humps\, and dips. Trail width is at minimum 2 ft across. 
URL:https://btarboretum.org/event/critter-crawl-night-tour-10/
LOCATION:Boyce Thompson Arboretum\, 37615 E Arboretum Way\, Superior\, AZ\, 85173\, United States
CATEGORIES:Critter Crawl
ATTACH;FMTTYPE=image/jpeg:https://btarboretum.org/wp-content/uploads/2026/02/2025-0620_024_Smith_Night_Flashlights_SearchingForAnimals_BTA-212_CL-scaled.jpg
END:VEVENT
BEGIN:VEVENT
DTSTART;TZID=America/Phoenix:20260828T073000
DTEND;TZID=America/Phoenix:20260828T083000
DTSTAMP:20260425T092854
CREATED:20260220T205852Z
LAST-MODIFIED:20260220T205852Z
UID:21252-1787902200-1787905800@btarboretum.org
SUMMARY:Summer Golf Cart Tour
DESCRIPTION:Explore the arboretum this summer with our Docents on a golf cart tour! We invite you to join us for an hour long cart ride to some of our most scenic spots of the arboretum. Our knowledgeable Docents will give you insights into our collections and take you to the best photo ops the gardens have to offer. \nCart tours are limited to 5 guests per tour. Due to limited space pre-registration is highly recommended. Purchase your tickets at our Welcome Center Gift Shop or Online. \nRegister: https://7830.blackbaudhosting.com/7830/Summer-Cart-Tour-28Aug2026 \nGolf Cart tours are $20 plus admission. Admission can be purchased separately online (here) or in-person during check-in.
URL:https://btarboretum.org/event/summer-golf-cart-tour-2/
LOCATION:Boyce Thompson Arboretum\, 37615 E Arboretum Way\, Superior\, AZ\, 85173\, United States
CATEGORIES:Tours
ATTACH;FMTTYPE=image/jpeg:https://btarboretum.org/wp-content/uploads/2026/02/2025-0710_032_SmithPatio_StaffDriving6SeatCart_BTA-214_CL-scaled.jpg
END:VEVENT
BEGIN:VEVENT
DTSTART;TZID=America/Phoenix:20260829T073000
DTEND;TZID=America/Phoenix:20260829T083000
DTSTAMP:20260425T092854
CREATED:20260220T205949Z
LAST-MODIFIED:20260220T205949Z
UID:21264-1787988600-1787992200@btarboretum.org
SUMMARY:Summer Golf Cart Tour
DESCRIPTION:Explore the arboretum this summer with our Docents on a golf cart tour! We invite you to join us for an hour long cart ride to some of our most scenic spots of the arboretum. Our knowledgeable Docents will give you insights into our collections and take you to the best photo ops the gardens have to offer. \nCart tours are limited to 5 guests per tour. Due to limited space pre-registration is highly recommended. Purchase your tickets at our Welcome Center Gift Shop or Online. \nRegister: https://7830.blackbaudhosting.com/7830/Summer-Cart-Tour-29Aug2026 \nGolf Cart tours are $20 plus admission. Admission can be purchased separately online (here) or in-person during check-in.
URL:https://btarboretum.org/event/summer-golf-cart-tour-3/
LOCATION:Boyce Thompson Arboretum\, 37615 E Arboretum Way\, Superior\, AZ\, 85173\, United States
CATEGORIES:Tours
ATTACH;FMTTYPE=image/jpeg:https://btarboretum.org/wp-content/uploads/2026/02/2025-0710_032_SmithPatio_StaffDriving6SeatCart_BTA-214_CL-scaled.jpg
END:VEVENT
END:VCALENDAR